BEGIN:VCALENDAR
VERSION:2.0
PRODID:-//Οδοντιατρικός Σύλλογος Θεσσαλονίκης - ECPv5.16.4//NONSGML v1.0//EN
CALSCALE:GREGORIAN
METHOD:PUBLISH
X-WR-CALNAME:Οδοντιατρικός Σύλλογος Θεσσαλονίκης
X-ORIGINAL-URL:https://www.osth.gr
X-WR-CALDESC:Events for Οδοντιατρικός Σύλλογος Θεσσαλονίκης
BEGIN:VTIMEZONE
TZID:Europe/Moscow
BEGIN:STANDARD
TZOFFSETFROM:+0300
TZOFFSETTO:+0300
TZNAME:MSK
DTSTART:20230101T000000
END:STANDARD
END:VTIMEZONE
BEGIN:VEVENT
DTSTART;TZID=Europe/Moscow:20230527T090000
DTEND;TZID=Europe/Moscow:20230527T153000
DTSTAMP:20260424T102058
CREATED:20230504T104419Z
LAST-MODIFIED:20230524T085526Z
UID:9343-1685178000-1685201400@www.osth.gr
SUMMARY:ΗΜΕΡΙΔΑ Ο.Σ.Θ.
DESCRIPTION:ΕΠΑΓΓΕΛΜΑ : ΄΄ΟΔΟΝΤΙΑΤΡΟΣ΄΄ \nΔιαφήμιση – Δεοντολογία – Αστική Ευθύνη – GDPR – Συνεργατική Οδοντιατρική – Χρηματοδότηση \nΓια να δείτε το πρόγραμμα πατήστε ΕΔΩ \n  \n 
URL:https://www.osth.gr/event/imerida-o-s-th/
LOCATION:Porto Palace\, 26ης Οκτωβρίου 65\, Θεσσαλονίκη\, Θεσσαλονίκης\, 54628\, Ελλάδα
ORGANIZER;CN="%CE%9F%CE%B4%CE%BF%CE%BD%CF%84%CE%B9%CE%B1%CF%84%CF%81%CE%B9%CE%BA%CF%8C%CF%82%20%CE%A3%CF%8D%CE%BB%CE%BB%CE%BF%CE%B3%CE%BF%CF%82%20%CE%98%CE%B5%CF%83%CF%83%CE%B1%CE%BB%CE%BF%CE%BD%CE%AF%CE%BA%CE%B7%CF%82":MAILTO:info@osth.gr
END:VEVENT
END:VCALENDAR